BEGIN:VCALENDAR
PRODID:NingEventWidget-v1
VERSION:2.0
METHOD:PUBLISH
BEGIN:VEVENT
UID:2508951:Event:187539
DTSTAMP:20260422T060857Z
SUMMARY:Noblemen's Red Hot Valentine's Ball!
DESCRIPTION:Break out your Tuxedos and Gowns, Walk in on the Red Car
 pet up the Grand Staircase of The Cavalier Hotel on The Hill and and e
 njoy a party like no other in Hampton Roads. An event James Bond would
  attend!!\nOnly 500 tickets are sold for this event get yours now befo
 re its sells out like last year! \n\nSEE PHOTOS FROM LAST YEAR'S RED 
 HOT VALENTINE'S BALL HERE!\n\n\n \nPURCHASE TICKETS HERE\n includes:
 \n- 2 x tickets for the event - 1 x room at the Old Cavalier on the Hi
 ll - 2 x tickets to the after party celebration - 2 x tickets to Sunda
 y's fabulous brunch\n\nRegular Tickets are $125 per person. \nOnly 50
 0 tickets are sold and they are going fast!!!\nOpen Bar all evening fe
 aturing Top Shelf choices and several specialty bars!\nAll you care to
  eat GOURMET food. (SEE DETAILED MENU BELOW)\nOur famous chocolate fou
 ntain.\nDancing to Two Live Bands.... Cheap Thrills and Jackie Scott a
 nd the Housewreckers!\nFree photo of you and your date and more!\nTick
 ets are available at www.thenoblemen.org\nThe FOOD offerings for the R
 ed Hot Ball are going to be amazing this year. SPECIAL THANKS TO THE C
 AVALIER'S CHEF EDDIE LEE!\nHere's a sampling: Shrimp and grits Chicken
  Satay  Figs and marascapone wrap Hamburger sliders Crabcake sliders P
 oached Salmon platters 2 chocolate fountains An Ahi tuna station Jumbo
  cocktail shrimp Imported and domestic cheeses, vegatables, seasonal f
 ruit Chef carved stuffed whole pork loin w/bourbon sauce Veggie lumpia
  Antipasto skewers Sweet potato fries in cones Sweet potato/potato bar
  (you fill a wine glass with mashed potatos and add your own toppings)
  A dessert bar w/all kinds of cakes, cupcakes and yummy sweets\nAnd di
 d we mention a full bar with Top Shelf choices and several specialties
  bars?\nFor those who are staying overnight as part of our Room packag
 e, you will enjoy.. Breakfast: Mimosas Famous Noblemen Bloody Mary's F
 ull breakfast buffet A bounty of decadence all night long. More detail
 s to follow so check back for updates.\n\nIt's going to be an amazing 
 night as always. Hope you can join us!\n\nFor more information visit h
 ttps://vbnightlife.com/events/red-hot-valentine-s-ball
DTSTART:20120212T010000Z
DTEND:20120212T040000Z
CATEGORIES:"virginia beach events", "virginia beach fundraisers", "the
  nobleman", "red hot valentine's ball"
LOCATION:Cavalier Hotel on the Hill
WEBSITE:http://www.thenoblemen.org/events
URL:http://www.thenoblemen.org/events
CONTACT:
ORGANIZER:The Noblemen & VBnightlife.com
ATTACH;FMTTYPE="image/jpeg":http://storage.ning.com/topology/rest/1.0/
 file/get/1664160661?profile=original
ATTENDEE;ROLE=REQ-PARTICIPANT;PARTSTAT=ACCEPTED;RSVP=TRUE;CN="Mike Ref
 f":https://vbnightlife.com/profile/MikeReff
ATTENDEE;ROLE=REQ-PARTICIPANT;PARTSTAT=ACCEPTED;RSVP=TRUE;CN="VBnightl
 ife.com":https://vbnightlife.com/profile/admin
ATTENDEE;ROLE=REQ-PARTICIPANT;PARTSTAT=ACCEPTED;RSVP=TRUE;CN="Adrien J
 acob":https://vbnightlife.com/profile/AdrienJacob
END:VEVENT
END:VCALENDAR
