BEGIN:VCALENDAR
PRODID:NingEventWidget-v1
VERSION:2.0
METHOD:PUBLISH
BEGIN:VEVENT
UID:2508951:Event:206654
DTSTAMP:20260423T120428Z
SUMMARY:REASON FOR THE SEASON - THE BEST HOLIDAY PARTY & FUNDRAISER
DESCRIPTION:Purchase tickets here: http://www.thenoblemen.org/events\
 nThe Noblemen & The Roundtable of Business Leaders present the best ho
 liday party in Hampton Roads!  - Friday, November 30th  - The Virgini
 a Aquarium - 7:00pm - 11:00pm\n- Cost is $50 per ticket AND 1 toy that
  has a $25 value or greater. (all toys will go to The Noblemen Toy Dr
 ive which provides gifts to over 3000 less fortunate children) - Amazi
 ng food including all-you-can-consume-SUSHI! - Hors d' ouevres, soft d
 rinks, beer and wine, chocolate fountain, mermaid shows, photo booth i
 ncluded with admission! - Great live music with Mike Profitt and New D
 irection - Full access to roam the aquarium! - Silent auction with ove
 r $35,000 retail value!  YOU DO NOT WANT TO MISS THIS PARTY!  Tickets 
 are available now at:  www.thenoblemen.org/events  Proceeds benefit Th
 e Noblemen and The Roundtable Mentoring Program  for sponsorship infor
 mation please call 757-417-4947\n\nThis is the first and best holiday 
 party you could attend in Hampton Roads...let's take a tour through wh
 at you get for $50 plus a toy....  All you can consume Fresh out of th
 e tank....SUSHI plus Teriyaki chicken, beef, shrimp and pork, 6 bars w
 ith over a half dozen beer choices, local craft, regional craft and yo
 ur most popular brands, wine from the Artesian Brand of Hampton Roads,
  soft drinks, two dessert bars with two chocolate fountains, ice sculp
 ture with candy store infused sweets and that's just the consumable pa
 rt of the event...  The entertainment...The dance band, New Direction 
 Hampton Roads most wanted soloist, Mike Profitt and DJ Taylor Haycox..
 .if that's not enough, our free to use at your descretion...\nThe phot
 o booth, then, there are the three LIVE, in the tank Mermaid Shows...a
 nd the live mermaids walking the party...is that enough?   NOPE!!!! w
 e have a silent auction with gifts ranging from $25 value to over $5K 
 of value... total of $35K retail value, all available for 60% or less 
 of retail price....and finally, valet parking for everyone and full ac
 cess to the entire virginia aquarium...all for just $50 and a $25 toy!
  How can you beat that?   Get your tickets at www.thenoblemen.org o
 rwww.theroundtable.biz...There are 100 tickets left for the event. onc
 e their gone, they are gone...ask the other 600 who have tickets alrea
 dy. Oh, did I mention the VIP Room INDULGENCE!!!!, until the next post
 ...GET THOSE TICKETS NOW!!!!\n\nFor more information visit https://vbn
 ightlife.com/events/reason-for-the-season
DTSTART:20121201T000000Z
DTEND:20121201T040000Z
CATEGORIES:"virginia beach events", "virginia beach nightlife", "virgi
 nia beach fundraisers", "the nobleman", "the reason for the season"
LOCATION:Virginia Aquarium
WEBSITE:http://www.thenoblemen.org/Default.aspx?pageId=1271522&eventId
 =552357&EventViewMode=EventDetails
URL:http://www.thenoblemen.org/Default.aspx?pageId=1271522&eventId=552
 357&EventViewMode=EventDetails
CONTACT:
ORGANIZER;CN="VBnightlife.com":https://vbnightlife.com/profile/admin
ATTACH;FMTTYPE="image/jpeg":http://storage.ning.com/topology/rest/1.0/
 file/get/1664183973?profile=original
ATTENDEE;ROLE=REQ-PARTICIPANT;PARTSTAT=ACCEPTED;RSVP=TRUE;CN="Rolan St
 ears":https://vbnightlife.com/profile/RolanStears
ATTENDEE;ROLE=REQ-PARTICIPANT;PARTSTAT=ACCEPTED;RSVP=TRUE;CN="VBnightl
 ife.com":https://vbnightlife.com/profile/admin
END:VEVENT
END:VCALENDAR
