BEGIN:VCALENDAR
PRODID:NingEventWidget-v1
VERSION:2.0
METHOD:PUBLISH
BEGIN:VEVENT
UID:2508951:Event:157141
DTSTAMP:20260424T023616Z
SUMMARY:RaJazz
DESCRIPTION:The only place to be on Friday in the 757. Come and enjoy 
 sound of one Hampton Roads most talk about bands. Great food, fun lovi
 ng people inside and outside seating. Dancing also.\n\nFor more inform
 ation visit https://vbnightlife.com/events/rajazz-1
DTSTART:20110716T000000Z
DTEND:20110716T033000Z
CATEGORIES:friday, night, party, at, uno
LOCATION:Uno Chicago Grill
WEBSITE:
URL:
CONTACT:
ORGANIZER;CN="Rogers Brown":https://vbnightlife.com/profile/RogersBrow
 n
ATTACH;FMTTYPE="image/jpeg":http://storage.ning.com/topology/rest/1.0/
 file/get/1664147775?profile=original
ATTENDEE;ROLE=REQ-PARTICIPANT;PARTSTAT=ACCEPTED;RSVP=TRUE;CN="Rolan St
 ears":https://vbnightlife.com/profile/RolanStears
ATTENDEE;ROLE=REQ-PARTICIPANT;PARTSTAT=ACCEPTED;RSVP=TRUE;CN="Rogers B
 rown":https://vbnightlife.com/profile/RogersBrown
END:VEVENT
END:VCALENDAR
