BEGIN:VCALENDAR
PRODID:NingEventWidget-v1
VERSION:2.0
METHOD:PUBLISH
BEGIN:VEVENT
UID:2508951:Event:30912
DTSTAMP:20260420T121148Z
SUMMARY:QUIK FIX @ SOUTH BEACH GRILL
DESCRIPTION:Quik Fix is one of the most in-demand bands in the Tidewat
 er area. The band consists of drums, guitar, bass, keyboards and percu
 ssion led by strong male and female vocals and four part harmonies. Qu
 ik Fix has performed in dozens of nightclubs and bars as well as priva
 te parties. We can tailor our music to your event. Quik Fix is the rig
 ht choice for your entertainment needs. See below for bios of the band
  members.\n\nClaudette handles all the marketing, promotion and bookin
 gs for Quik FIx. Claudette is the leading lady of Quik Fix. She has be
 en performing in variety bands for over fifteen years. Always enjoyabl
 e and professional, her versatile voice and strong stage presence add 
 excitement to any show. She knows how to “work the room”. Her tale
 nt ranges from belting out rock ballads to singing high energy dance, 
 R & B and funk. From the South Florida area...Formerly with Carnival C
 ruise Lines, and The Sea Escape, Claudette has performed in numerous n
 ightclubs and bars from the Palm Beaches to the Florida Keys: Boston
 s on the Beach, Back Alley, Martini Bar, Briny’s Irish Pub, Boca Ra
 ton Resort and Club, The Blue Martini, Deerfield Beach Marriott, Caval
 lino, Clamster’s, Dicey Riley, Woodfield Country Club, The Doral Res
 ort and Club, Big Daddy’s, The Breakers Hotel, etc. She will leave y
 ou wanting more…. Former lead singer with The Rhythm Kings, Pulp Fic
 tion and Bigger Dream.\n\nCurt Brady is originally from Long Island, N
 ew York. He has played guitar for 34 years and first played profession
 ally at age 16. He served as a guitarist in the US Army for 22 years a
 nd is a former member of The United States Army (Europe) Band and Chor
 us in Heidelberg, Germany, and The United States Continental Army Band
  at Fort Monroe, Virginia. Curt retired from the Army in September of 
 2005 and now works as a guitar teacher. He has performed locally since
  1997 with Desert Dust, The Rhythm Kings, Five Long Years and Jo’s B
 oys. He has also played several local music theater productions includ
 ing The Wiz, Little Shop of Horrors, Aida and Cabaret. Curt shares a s
 mall beach cottage in Hampton with his wife Nanette, son Matthew, thre
 e cats and (at last count) 16 guitars. He freely admits that no one re
 ally needs that many cats.\n\nKen Brown has been playing in the Hampto
 n Roads area for the last 25 years. He has been in over 50 bands. Orig
 inally from Massachusetts, he was a Navy Seal for 6 years in the 70’
 s. Ken most recently played with Bigger Dream from 2003 to 2008.\n\nMa
 rk Spencer began recording music and playing keyboards in the 60’s a
 nd has recorded and played for such bands as Redymix, Rondells, Chillb
 illies, Isaac, Phoenix, Northbound, Promise, Bigger Dream and Skylark.
 \n\nDon Knight has been playing percussion since the age of 12. While 
 living in London, England he played with 3 different bands adding funk
 , blues and some jazz to the rock foundation. Moving back to the US he
  joined up with Full Throttle, Bigger Dream and Lovesick Cousin.\n\nFo
 r more information visit https://vbnightlife.com/events/quik-fix-south
 -beach-grill
DTSTART:20111112T050000Z
DTEND:20111113T045900Z
CATEGORIES:band
LOCATION:SOUTH BEACH GRILL
WEBSITE:
URL:
CONTACT:
ORGANIZER;CN="VBnightlife.com":https://vbnightlife.com/profile/admin
ATTACH;FMTTYPE="image/jpeg":http://storage.ning.com/topology/rest/1.0/
 file/get/1664100182?profile=original
ATTENDEE;ROLE=REQ-PARTICIPANT;PARTSTAT=ACCEPTED;RSVP=TRUE;CN="VBnightl
 ife.com":https://vbnightlife.com/profile/admin
ATTENDEE;ROLE=REQ-PARTICIPANT;PARTSTAT=ACCEPTED;RSVP=TRUE;CN="Gregg Pi
 erce":https://vbnightlife.com/profile/GreggPierce
END:VEVENT
END:VCALENDAR
