BEGIN:VCALENDAR
PRODID:NingEventWidget-v1
VERSION:2.0
METHOD:PUBLISH
BEGIN:VEVENT
UID:2508951:Event:317291
DTSTAMP:20260424T120522Z
SUMMARY:PUMPCON: HALLOWEEN OCEANFRONT CRAWL
DESCRIPTION:\nHalloween Oceanfront CrawlStart at Chix and work our way
  to Sky Bar\n\nOVER 80 ATTENDING\nhttps://www.facebook.com/events/1637
 709713153450/\n\n7PM TO 1AM\n\nFor more information visit https://vbni
 ghtlife.com/events/pumpcon-halloween-oceanfront-crawl
DTSTART:20151031T230000Z
DTEND:20151101T034500Z
CATEGORIES:halloween, "things to do in virginia beach"
LOCATION:Virginia Beach Oceanfront
WEBSITE:
URL:
CONTACT:
ORGANIZER:VBnightlife.com / vbdaylife
ATTACH;FMTTYPE="image/jpeg":http://storage.ning.com/topology/rest/1.0/
 file/get/1664290227?profile=original
ATTENDEE;ROLE=REQ-PARTICIPANT;PARTSTAT=ACCEPTED;RSVP=TRUE;CN="VBnightl
 ife.com":https://vbnightlife.com/profile/admin
END:VEVENT
END:VCALENDAR
