BEGIN:VCALENDAR
PRODID:NingEventWidget-v1
VERSION:2.0
METHOD:PUBLISH
BEGIN:VEVENT
UID:2508951:Event:16217
DTSTAMP:20260420T033511Z
SUMMARY:PSYCHEDELIC FURS and HAPPY MONDAYS @ THE NORVA
DESCRIPTION:PSYCHEDELIC FURS and HAPPY MONDAYS ... Sunday October 4th 
 @ The NorVa ... Tickets on sale THIS Saturday June 27th at all Ticketm
 aster outlets, norvatickets.com, and Kelly's Backstage Tavern\n\nFor m
 ore information visit https://vbnightlife.com/events/psychedelic-furs-
 and-happy
DTSTART:20091004T230000Z
DTEND:20091005T030000Z
CATEGORIES:concert
LOCATION:The Norva
WEBSITE:
URL:
CONTACT:
ORGANIZER;CN="VBnightlife.com":https://vbnightlife.com/profile/admin
ATTACH;FMTTYPE="image/jpeg":http://storage.ning.com/topology/rest/1.0/
 file/get/1664077675?profile=original
ATTENDEE;ROLE=REQ-PARTICIPANT;PARTSTAT=ACCEPTED;RSVP=TRUE;CN="VBnightl
 ife.com":https://vbnightlife.com/profile/admin
END:VEVENT
END:VCALENDAR
