BEGIN:VCALENDAR
PRODID:NingEventWidget-v1
VERSION:2.0
METHOD:PUBLISH
BEGIN:VEVENT
UID:2508951:Event:189016
DTSTAMP:20260423T120454Z
SUMMARY:Prohibition Party at Retro Cafe
DESCRIPTION:$20 at the door w/ $.10 cents drinks\nFlapper Contest $100
  First Prize\n\n\n\nFor more information visit https://vbnightlife.com
 /events/prohibition-party-at-retro-cafe
DTSTART:20120218T010000Z
DTEND:20120218T050000Z
CATEGORIES:party, prohibition
LOCATION:Retro Cafe
WEBSITE:
URL:
CONTACT:
ORGANIZER;CN="VBnightlife.com":https://vbnightlife.com/profile/admin
ATTACH;FMTTYPE="image/jpeg":http://storage.ning.com/topology/rest/1.0/
 file/get/1664162279?profile=original
ATTENDEE;ROLE=REQ-PARTICIPANT;PARTSTAT=ACCEPTED;RSVP=TRUE;CN="VBnightl
 ife.com":https://vbnightlife.com/profile/admin
END:VEVENT
END:VCALENDAR
