BEGIN:VCALENDAR
PRODID:NingEventWidget-v1
VERSION:2.0
METHOD:PUBLISH
BEGIN:VEVENT
UID:2508951:Event:319092
DTSTAMP:20260424T033232Z
SUMMARY:PRE-THANKSGIVING PARTY WITH PLASTIC EDDIE AT FROGGIES
DESCRIPTION:\nPlastic Eddie Live at Froggies 8:30pm\n\nFor more inform
 ation visit https://vbnightlife.com/events/pre-thanksgiving-party-with
 -plastic-eddie-at-froggies
DTSTART:20151126T013000Z
DTEND:20151126T014500Z
CATEGORIES:"virginia beach", "virginia beach nightlife", "virginia bea
 ch bands", "virginia beach entertainment", "events in virginia beach",
  "things to do in virginia beach", "mobile app virginia beach"
LOCATION:FROGGIES CANTINA BY THE BAY
WEBSITE:
URL:
CONTACT:
ORGANIZER:VBnightlife.com / Froggies
ATTACH;FMTTYPE="image/jpeg":http://storage.ning.com/topology/rest/1.0/
 file/get/1664293106?profile=original
ATTENDEE;ROLE=REQ-PARTICIPANT;PARTSTAT=ACCEPTED;RSVP=TRUE;CN="VBnightl
 ife.com":https://vbnightlife.com/profile/admin
END:VEVENT
END:VCALENDAR
