BEGIN:VCALENDAR
PRODID:NingEventWidget-v1
VERSION:2.0
METHOD:PUBLISH
BEGIN:VEVENT
UID:2508951:Event:70615
DTSTAMP:20260424T132218Z
SUMMARY:POWERBOATING FOR A CURE
DESCRIPTION:\n\nPowerboating for a Cure kick off party.Limited dock sp
 ace avail if you want to come by boat.More info coming soon\n\n\n\n\n\
 nGeneral information:\nSponsored bt MAPA (Mid Atlantic Powerboat Assoc
 iation)\nMission:\nThe Powerboating for a Cure Poker Run is an exclusi
 ve community-based event dedicated to eliminating a major health probl
 ems. While raising support and money for the various charities and the
  less fortunate.\n\n\n\n\n\n\n\n\n\nFor more information visit https:/
 /vbnightlife.com/events/powerboating-for-a-cure
DTSTART:20110730T040000Z
DTEND:20110731T035900Z
CATEGORIES:fundraiser
LOCATION:WATERSIDE MARINA
WEBSITE:
URL:
CONTACT:
ORGANIZER;CN="VBnightlife.com":https://vbnightlife.com/profile/admin
ATTACH;FMTTYPE="image/jpeg":http://storage.ning.com/topology/rest/1.0/
 file/get/1664129420?profile=original
ATTENDEE;ROLE=REQ-PARTICIPANT;PARTSTAT=ACCEPTED;RSVP=TRUE;CN="VBnightl
 ife.com":https://vbnightlife.com/profile/admin
END:VEVENT
END:VCALENDAR
