BEGIN:VCALENDAR
PRODID:NingEventWidget-v1
VERSION:2.0
METHOD:PUBLISH
BEGIN:VEVENT
UID:2508951:Event:47237
DTSTAMP:20260420T031220Z
SUMMARY:Poker 4 Parkinson's Casino Night - Featuring Body Painting by 
 Jeff Edney!
DESCRIPTION:\nFOR IMMEDIATE RELEASE Website: www.mwpf.org\n\n\nMELVIN 
 WEINSTEIN PARKINSON'S FOUNDATION HOSTS POKER 4 PARKINSON'S CASINO NIGH
 T FUNDRAISER OCTOBER 16, 2010\n\nCELEBRITY GUEST APPEARANCES INCLUDE B
 RIAN GRANT, FORMER NBA PLAYER, AND SANDRA PARKER, LOCAL WVEC CHANNEL 1
 3 NEWS ANCHOR\n\nVirginia Beach, Va. – Melvin Weinstein Parkinson's 
 Foundation (MWPF) presents Poker 4 Parkinson's on October 16, 2010, at
  The Renaissance Room, 324 North Great Neck Road, Virginia Beach, Va.,
  at 7:00 p.m.\n\nGuests will enjoy food, beverages, casino games, priz
 es, silent auction and a raffle. To purchase tickets ($60 each guest) 
 call 757.708.2277, email mwpf@verizon.net, or visit www.mwpf.org. Purc
 hase your tickets in advance - they will increase to $100 at the door.
 \n\nAn estimated one million people have been diagnosed with Parkinson
 's disease in the United States and are faced with debilitating physic
 al and emotional challenges. With limited insurance coverage, a substa
 ntial portion of medical and related expenses are forced to be paid ou
 t of pocket. MWPF is the only organization of its kind that provides d
 irect relief based on the patients' actual and immediate needs.\n\n“
 We've seen first-hand the difference that assistance, no matter how bi
 g or small, can make in keeping an individual more independent and saf
 e,” said Marsha Anthony, co-director of MWPF.\n\nMWPF is a not-for-p
 rofit organization that raises money to purchase medical equipment and
  health supplies for Parkinson's patients to help with the maintenance
  of safe and healthier living environments.\n\nTo learn more about MWP
 F, visit www.mwpf.org or read about them in the PDF's Parkinson's Dise
 ase Resource List.\n\nFor more information visit https://vbnightlife.c
 om/events/poker-4-parkinsons-casino
DTSTART:20101016T230000Z
DTEND:20101017T030000Z
CATEGORIES:casino, night, fundraiser
LOCATION:The Renaissance Room
WEBSITE:http://www.renaissanceroomvb.com
URL:http://www.renaissanceroomvb.com
CONTACT:757.708.2277
ORGANIZER;CN="Traci Corcoran":https://vbnightlife.com/profile/TraciCor
 coran
ATTACH;FMTTYPE="image/jpeg":http://storage.ning.com/topology/rest/1.0/
 file/get/1664117016?profile=original
ATTENDEE;ROLE=REQ-PARTICIPANT;PARTSTAT=ACCEPTED;RSVP=TRUE;CN="Traci Co
 rcoran":https://vbnightlife.com/profile/TraciCorcoran
ATTENDEE;ROLE=REQ-PARTICIPANT;PARTSTAT=TENTATIVE;RSVP=TRUE;CN="Lisa Sm
 ith":https://vbnightlife.com/profile/LisaSmith
END:VEVENT
END:VCALENDAR
