BEGIN:VCALENDAR
PRODID:NingEventWidget-v1
VERSION:2.0
METHOD:PUBLISH
BEGIN:VEVENT
UID:2508951:Event:71699
DTSTAMP:20260420T121728Z
SUMMARY:Poker 4 Parkinson's 2011
DESCRIPTION:YIKES!  ALMOST SOLD OUT!  Only 40 tickets left as of tod
 ay so if you would like to join the VBnightlife crew  November 12th p
 lease click this link and purchase tickets here today!\n \nhttp://mwp
 f.org/2011p4p.htm\n \nClick here to see photos from last year's Poker
  for Parkinsons! \nhttp://vbnightlife.com/photo/poker-for-parkinson-3
 #!/photo/poker-for-parkinson-2?context=user\n \n\n\nFor more informat
 ion visit https://vbnightlife.com/events/poker-4-parkinsons-2011-mark
DTSTART:20111112T233000Z
DTEND:20111113T040000Z
CATEGORIES:fundraiser
LOCATION:Renaissance Room
WEBSITE:
URL:
CONTACT:
ORGANIZER:Melvin Weinstein's Parkinson's Foundation
ATTACH;FMTTYPE="image/jpeg":http://storage.ning.com/topology/rest/1.0/
 file/get/1664154068?profile=original
ATTENDEE;ROLE=REQ-PARTICIPANT;PARTSTAT=ACCEPTED;RSVP=TRUE;CN="VBnightl
 ife.com":https://vbnightlife.com/profile/admin
END:VEVENT
END:VCALENDAR
