BEGIN:VCALENDAR
PRODID:NingEventWidget-v1
VERSION:2.0
METHOD:PUBLISH
BEGIN:VEVENT
UID:2508951:Event:19580
DTSTAMP:20260425T100824Z
SUMMARY:PLASTIC EDDIE @ SOUTH BEACH GRILL
DESCRIPTION:9:30 TO 1:30\n\nFor more information visit https://vbnight
 life.com/events/plastic-eddie-south-beach-1
DTSTART:20090815T040000Z
DTEND:20090816T035900Z
CATEGORIES:band
LOCATION:Virginia Beach
WEBSITE:
URL:
CONTACT:
ORGANIZER;CN="VBnightlife.com":https://vbnightlife.com/profile/admin
ATTACH;FMTTYPE="image/jpeg":http://storage.ning.com/topology/rest/1.0/
 file/get/1664084226?profile=original
ATTENDEE;ROLE=REQ-PARTICIPANT;PARTSTAT=ACCEPTED;RSVP=TRUE;CN="VBnightl
 ife.com":https://vbnightlife.com/profile/admin
END:VEVENT
END:VCALENDAR
