BEGIN:VCALENDAR
PRODID:NingEventWidget-v1
VERSION:2.0
METHOD:PUBLISH
BEGIN:VEVENT
UID:2508951:Event:24161
DTSTAMP:20260422T044212Z
SUMMARY:PLASTIC EDDIE @ GREEN PARROT GRILLE
DESCRIPTION:9:30 TO 1:30\n\nFor more information visit https://vbnight
 life.com/events/plastic-eddie-green-parrot
DTSTART:20091030T040000Z
DTEND:20091031T035900Z
CATEGORIES:band
LOCATION:Virginia Beach
WEBSITE:
URL:
CONTACT:
ORGANIZER;CN="VBnightlife.com":https://vbnightlife.com/profile/admin
ATTACH;FMTTYPE="image/jpeg":http://storage.ning.com/topology/rest/1.0/
 file/get/1664091596?profile=original
ATTENDEE;ROLE=REQ-PARTICIPANT;PARTSTAT=ACCEPTED;RSVP=TRUE;CN="VBnightl
 ife.com":https://vbnightlife.com/profile/admin
END:VEVENT
END:VCALENDAR
