BEGIN:VCALENDAR
PRODID:NingEventWidget-v1
VERSION:2.0
METHOD:PUBLISH
BEGIN:VEVENT
UID:2508951:Event:192291
DTSTAMP:20260420T062128Z
SUMMARY:Pinterest/Facebook Social Media Seminar (Virginia Beach)
DESCRIPTION: \n\nPinterest/Facebook Social Media Seminar\nRegister: h
 ttp://7thvisionmarketing04052012.eventbrite.com/\nThere are two big ch
 anges happening in social media! The amazing growth of Pinterest and t
 he traffic it is generating for businesses, and the new Facebook Timel
 ine, which will become the standard as Facebook removes the old and fa
 miliar format on March 30th.\nPinterest alone is generating more traff
 ic and sales for business than Google+, LinkedIn, and YouTube combined
 ! Not to mention it is growing faster than Facebook!\nThe Facebook Tim
 eline removes some advantages, but brings many more for marketing your
  business. Including customizable cover photo, bigger photos, and more
  tabs!\nWe will talk about the changes and how your business can profi
 t from them.\nRegister: http://7thvisionmarketing04052012.eventbrite.
 com/\nOur monthly giveaway this month is a Nook. Everyone attending wi
 ll be register to win. The Winner will be announced on April 30th.\nEv
 eryone attending will receive the eBook: \"The One eBook Solution: The
  12 Secrets to Turning A Single eBook Into A 6-Figure Income Online.\"
  Which is normally sold online for $47.\nemail: info@7thvisionmarketin
 g.com with comments or questions\n \n\nFor more information visit htt
 ps://vbnightlife.com/events/pinterest-facebook-social-media-seminar
DTSTART:20120405T170000Z
DTEND:20120405T190000Z
CATEGORIES:seminar
LOCATION:Virginia Beach Central Library
WEBSITE:http://maps.google.com/maps?q=4100+Virginia+Beach+Boulevard,+V
 irginia+Beach,+VA&hl=en&sll=36.778852,-76.525498&sspn=0.009281,0.01980
 5&oq=4100+virgini&hnear=4100+Virginia+Beach+Blvd,+Virginia+Beach,+Virg
 inia+23452&t=m&z=16
URL:http://maps.google.com/maps?q=4100+Virginia+Beach+Boulevard,+Virgi
 nia+Beach,+VA&hl=en&sll=36.778852,-76.525498&sspn=0.009281,0.019805&oq
 =4100+virgini&hnear=4100+Virginia+Beach+Blvd,+Virginia+Beach,+Virginia
 +23452&t=m&z=16
CONTACT:757-515-8449
ORGANIZER;CN="7th Vision Marketing":https://vbnightlife.com/profile/7t
 hVisionMarketing
ATTACH;FMTTYPE="image/jpeg":http://storage.ning.com/topology/rest/1.0/
 file/get/1664163340?profile=original
ATTENDEE;ROLE=REQ-PARTICIPANT;PARTSTAT=ACCEPTED;RSVP=TRUE;CN="7th Visi
 on Marketing":https://vbnightlife.com/profile/7thVisionMarketing
END:VEVENT
END:VCALENDAR
