BEGIN:VCALENDAR
PRODID:NingEventWidget-v1
VERSION:2.0
METHOD:PUBLISH
BEGIN:VEVENT
UID:2508951:Event:6044
DTSTAMP:20260425T225702Z
SUMMARY:Pigment of Your Imagination Art Show and Edmarc Benefit
DESCRIPTION:MC7C's \"Pigment of Your Imagination\" Art Show and Charit
 y Event. Tons of Artists, Free Food, DJ's Spinning Music. Alice in Won
 derland meets Circus Theme.\nThe HOTTEST Art Show since 2007's Joan of
  Art Show! Come out, donate to charity, and help change the community!
  Grab your friends, kids, or freaks to attend this fascinating show!\n
 \nRSVP/ Additional Info On This Event Page Link\n\nHope you can make i
 t! Come out to support Edmarc and local artists!\nxxoo\nk@t\n\nFor mor
 e information visit https://vbnightlife.com/events/pigment-of-your-ima
 gination
DTSTART:20090213T000000Z
DTEND:20090213T040000Z
CATEGORIES:fundraiser
LOCATION:Walls Fine Art Gallery
WEBSITE:http://www.myspace.com/monochromatic7cities
URL:http://www.myspace.com/monochromatic7cities
CONTACT:
ORGANIZER;CN="Kat Marsh":https://vbnightlife.com/profile/KatMarsh
ATTACH;FMTTYPE="image/jpeg":http://storage.ning.com/topology/rest/1.0/
 file/get/1664069193?profile=original
ATTENDEE;ROLE=REQ-PARTICIPANT;PARTSTAT=ACCEPTED;RSVP=TRUE;CN="Kat Mars
 h":https://vbnightlife.com/profile/KatMarsh
END:VEVENT
END:VCALENDAR
