BEGIN:VCALENDAR
PRODID:NingEventWidget-v1
VERSION:2.0
METHOD:PUBLISH
BEGIN:VEVENT
UID:2508951:Event:33187
DTSTAMP:20260421T053907Z
SUMMARY:Pete Hansen and Larry Emanuel - Saturday Nigh at ABBEY ROAD!
DESCRIPTION:101 International Beers - travel around the world.....in b
 eer!\n\nGreat Food, Great Times!\n\nFor more information visit https:/
 /vbnightlife.com/events/pete-hansen-and-larry-emanuel-1
DTSTART:20100321T013000Z
DTEND:20100321T053000Z
CATEGORIES:acoustic, rockmania
LOCATION:Abbey Road Pub
WEBSITE:http://www.petehansenmusic.com
URL:http://www.petehansenmusic.com
CONTACT:425-6330
ORGANIZER;CN="Pete Hansen":https://vbnightlife.com/profile/PeteHansen
ATTACH;FMTTYPE="image/jpeg":
ATTENDEE;ROLE=REQ-PARTICIPANT;PARTSTAT=ACCEPTED;RSVP=TRUE;CN="Rolan St
 ears":https://vbnightlife.com/profile/RolanStears
ATTENDEE;ROLE=REQ-PARTICIPANT;PARTSTAT=ACCEPTED;RSVP=TRUE;CN="Pete Han
 sen":https://vbnightlife.com/profile/PeteHansen
END:VEVENT
END:VCALENDAR
