BEGIN:VCALENDAR
PRODID:NingEventWidget-v1
VERSION:2.0
METHOD:PUBLISH
BEGIN:VEVENT
UID:2508951:Event:193249
DTSTAMP:20260421T235454Z
SUMMARY:Pet Lovers Extravaganza!
DESCRIPTION:Event Name:Â Â Â Â Â  Care-A-Lot\nÂ \nEvent Date: Â April 
 27 â€“ 29, 2012\nÂ \nOnline Pre-Registration Closes: April 23, 2012 at
  11:45pm EST(pre-registration is limited)\nÂ \nPre-Registration Entry 
 Fees:Â Â Â Â Â Â Â Â Â Â Â \n$25.00 per team per Big Air or Speed Retr
 ieve Wave or Extreme Vertical Competition Â Â Â Â Â Â Â Â Â Â Â \n(Lim
 ited to 30 dogs per Big Air & Speed Retrieve Waves, 15 dogs for Extrem
 e Vertical)\n$25.00 per team for Iron Dog Event Rankings\nÂ \nOn-Site 
 Registration Entry Fees:\n$30.00 per team per Big Air or Speed Retriev
 e Wave or Extreme Vertical CompetitionÂ Â Â Â Â Â Â Â Â Â Â \n(Limited
  to 40 dogs per Big Air & Speed Retrieve Waves, 28 dogs for Extreme Ve
 rtical)\n$30.00 per team for Iron Dog Event Rankings\nÂ \nEvent Schedu
 le:Â Â   Â Â Â Â Â Â Â Â   Fri April 27, 2012Â Â Â Â Â Â Â Â Â Â Â  Â 
 Â Â  Â Â Â  Onsite Registration/ Practice â€“ 1:00 pm\nÂ Â Â Â Â Â Â Â
  Â Â Â  Â Â Â Â Â Â Â Â Â Â Â  Â Â Â Â Â Â Â Â Â Â Â  Â Â Â Â Â Â Â Â 
 Â Â  Big Air WAVE # 1 â€“ 2:00 pm\nÂ Â Â Â Â Â Â Â Â Â Â  Â Â Â Â Â Â 
 Â Â Â Â Â  Â Â Â Â Â Â Â Â Â Â Â  Â Â Â Â Â Â Â Â Â Â  Big Air WAVE # 
 2 â€“ 3:30 pm\nÂ Â Â Â Â Â Â Â Â Â Â  Â Â Â Â Â Â Â Â Â Â Â  Â Â Â Â Â
  Â Â Â Â Â Â  Â Â Â Â Â Â Â Â Â Â  Big Air WAVE # 3 â€“ 5:30 pm\nÂ  Sa
 t April 28, 2012Â Â Â Â Â Â Â Â Â Â Â  Â Â Â Â Â Â  Onsite Registratio
 n/ Practice â€“ 8:00 am\nÂ Â Â Â Â Â Â Â Â Â Â  Â Â Â Â Â Â Â Â Â Â Â 
  Â Â Â Â Â Â Â Â Â Â Â  Â Â Â Â Â Â Â Â Â Â  Big Air WAVE # 4 â€“ 9:00
  am\nÂ Â Â Â Â Â Â Â Â Â Â  Â Â Â Â Â Â Â Â Â Â Â  Â Â Â Â Â Â Â Â Â Â
  Â  Â Â Â Â Â Â Â Â Â Â  Big Air WAVE # 5 â€“ 11:00 am\nÂ Â Â Â Â Â Â 
 Â Â Â Â  Â Â Â Â Â Â Â Â Â Â Â  Â Â Â Â Â Â Â Â Â Â Â  Â Â Â Â Â Â Â Â
  Â Â  Big Air WAVE # 6 â€“ 1:00 pm\nÂ Â Â Â Â Â Â Â Â Â Â  Â Â Â Â Â Â
  Â Â Â Â Â  Â Â Â Â Â Â Â Â Â Â Â  Â Â Â Â Â Â Â Â Â Â  Big Air WAVE #
  7 â€“ 3:00 pm\nÂ Â Â Â Â Â Â Â Â Â Â  Â Â Â Â Â Â Â Â Â Â Â  Â Â Â Â 
 Â Â Â Â Â Â Â  Â Â Â Â Â Â Â Â Â Â  Extreme Vertical â€“ 5:30 pm\nÂ \n
 Sun April 29, 2012Â Â Â Â Â Â Â Â Â Â Â  Â Â Â  Onsite Registration/ P
 ractice â€“ 8:00 am\nÂ Â Â Â Â Â Â Â Â Â Â  Â Â Â Â Â Â Â Â Â Â Â  Â Â
  Â Â Â Â Â Â Â Â Â  Â Â Â Â Â Â Â Â Â  Speed Retrieve â€“ 9:30 am\nÂ Â
  Â Â Â Â Â Â Â Â Â  Â Â Â Â Â Â Â Â Â Â Â  Â Â Â Â Â Â Â Â Â Â Â  Â Â 
 Â Â Â Â Â Â Â  Big Air WAVE # 8 â€“ 11:30 pm\nÂ Â Â Â Â Â Â Â Â Â Â  Â
  Â Â Â Â Â Â Â Â Â Â  Â Â Â Â Â Â Â Â Â Â Â  Â Â Â Â Â Â Â Â Â  Big Ai
 r WAVE # 9 â€“ 1:30 pm\nÂ Â Â Â Â Â Â Â Â Â Â  Â Â Â Â Â Â Â Â Â Â Â  
 Â Â Â Â Â Â Â Â Â Â Â  Â Â Â Â Â Â Â Â Â  Speed Retrieve Finals â€“ 3:
 30 pm\nÂ Â Â Â Â Â Â Â Â Â Â  Â Â Â Â Â Â Â Â Â Â Â  Â Â Â Â Â Â Â Â Â
  Â Â  Â Â Â Â Â Â Â Â Â  Big Air Finals begin at 4:00 pm\nÂ Â Â Â Â Â 
 Â Â Â Â Â  Â Â Â Â Â Â Â Â Â Â Â  Â Â Â Â Â Â Â Â Â Â Â  Â Â Â Â Â Â Â
  Â Â Â  (Pro, Semi-Pro & Amateur Finals)\nÂ \nEvent Format: Outdoor Bi
 g Airâ€“, Extreme Verticalâ€“ & Speed RetrieveTM\n\nFor more informati
 on visit https://vbnightlife.com/events/pet-lovers-extravaganza
DTSTART:20120428T040000Z
DTEND:20120430T035900Z
CATEGORIES:"virginia beach events", "virginia beach pets", dockdogs, c
 are-a-lot
LOCATION:Virginia Beach
WEBSITE:http://www.dockdogs.com/event-reader-ers/events/2012-care-a-lo
 t.html
URL:http://www.dockdogs.com/event-reader-ers/events/2012-care-a-lot.ht
 ml
CONTACT:
ORGANIZER;CN="VBnightlife.com":https://vbnightlife.com/profile/admin
ATTACH;FMTTYPE="image/jpeg":http://storage.ning.com/topology/rest/1.0/
 file/get/1664164617?profile=original
ATTENDEE;ROLE=REQ-PARTICIPANT;PARTSTAT=ACCEPTED;RSVP=TRUE;CN="Rolan St
 ears":https://vbnightlife.com/profile/RolanStears
ATTENDEE;ROLE=REQ-PARTICIPANT;PARTSTAT=ACCEPTED;RSVP=TRUE;CN="VBnightl
 ife.com":https://vbnightlife.com/profile/admin
END:VEVENT
END:VCALENDAR
