BEGIN:VCALENDAR
PRODID:NingEventWidget-v1
VERSION:2.0
METHOD:PUBLISH
BEGIN:VEVENT
UID:2508951:Event:194460
DTSTAMP:20260419T205047Z
SUMMARY:Peninsula Walk to End Alzheimer's™ Kick-Off Event
DESCRIPTION:The Peninsula Walk to End Alzheimer's™ will be held on t
 he morning of October 20th at Styron Square in Newport News. On July 
 17th, teams will throw their annual kick-off for the fundraising sea
 son!\nFor more information, please call or email us at 800.272.3900 or
  infoseva@alz.org.\n\nFor more information visit https://vbnightlife.c
 om/events/peninsula-walk-to-end-alzheimer-s-kick-off-event
DTSTART:20120717T230000Z
DTEND:20120718T010000Z
CATEGORIES:celebration, kick-off
LOCATION:Aroma Specialty Coffees & Gourmet Bakery
WEBSITE:http://www.alz.org/seva
URL:http://www.alz.org/seva
CONTACT:800.272.3900
ORGANIZER;CN="Kristy Wyngaarden":https://vbnightlife.com/profile/Krist
 yWyngaarden
ATTACH;FMTTYPE="image/jpeg":http://storage.ning.com/topology/rest/1.0/
 file/get/1664167594?profile=original
ATTENDEE;ROLE=REQ-PARTICIPANT;PARTSTAT=ACCEPTED;RSVP=TRUE;CN="Kristy W
 yngaarden":https://vbnightlife.com/profile/KristyWyngaarden
END:VEVENT
END:VCALENDAR
