BEGIN:VCALENDAR
PRODID:NingEventWidget-v1
VERSION:2.0
METHOD:PUBLISH
BEGIN:VEVENT
UID:2508951:Event:8994
DTSTAMP:20260425T160209Z
SUMMARY:PAULY SHORE @ THE FUNNY BONE
DESCRIPTION:Pauly Shore\nWebsite: http://www.paulyshore.com/\n\nAn ent
 ertainment career was virtually pre-ordained for Paul Montgomery Shore
 .In the 1970\"s Pauly\"s parents opened The Comedy Store on Hollywood\
 "s Sunset Strip, giving their son the rare opportunity to hang out wit
 h such rising talents as Robin Williams, David Letterman and the late 
 Sam Kinison.At 17, Pauly began writing and performing his own material
  and quickly caught the attentionof MTV, which, in 1990, gave him his 
 own show, Totally Pauly.A career in comedic films followed with Encino
  Man, S\n\n\nShow Times\nThursday, April 02, 2009\n8:00 PM\n\nFriday, 
 April 03, 2009\n8:00 PM, 10:30 PM\n\nSaturday, April 04, 2009\n8:00 PM
 , 10:30 PM\n\nFor more information visit https://vbnightlife.com/event
 s/pauly-shore-the-funny-bone
DTSTART:20090405T000000Z
DTEND:20090405T010000Z
CATEGORIES:comedy
LOCATION:The Funny Bone Comedy Club and Restaurant
WEBSITE:
URL:
CONTACT:
ORGANIZER:The Funny Bone
ATTACH;FMTTYPE="image/jpeg":http://storage.ning.com/topology/rest/1.0/
 file/get/1664070557?profile=original
ATTENDEE;ROLE=REQ-PARTICIPANT;PARTSTAT=ACCEPTED;RSVP=TRUE;CN="Nicole M
 axino":https://vbnightlife.com/profile/NicoleMaxino
ATTENDEE;ROLE=REQ-PARTICIPANT;PARTSTAT=ACCEPTED;RSVP=TRUE;CN="No Name"
 :https://vbnightlife.com/profile/No__Name
END:VEVENT
END:VCALENDAR
