BEGIN:VCALENDAR
PRODID:NingEventWidget-v1
VERSION:2.0
METHOD:PUBLISH
BEGIN:VEVENT
UID:2508951:Event:194264
DTSTAMP:20260423T065422Z
SUMMARY:Patriotic Festival: GM First Responder
DESCRIPTION:\nFeatures an air brushed Silverado painted by world reno
 wned artist Mickey Harris. Displayed on 6th street.\nhttp://www.patrio
 ticfestival.com/happenings/\n\nFor more information visit https://vbni
 ghtlife.com/events/patriotic-festival-gm-first-responder
DTSTART:20120603T220000Z
DTEND:20120603T230000Z
CATEGORIES:"virginia beach events", "patriotic festival"
LOCATION:Boardwalk & 6th
WEBSITE:http://www.patrioticfestival.com/happenings/
URL:http://www.patrioticfestival.com/happenings/
CONTACT:
ORGANIZER;CN="VBnightlife.com":https://vbnightlife.com/profile/admin
ATTACH;FMTTYPE="image/jpeg":http://storage.ning.com/topology/rest/1.0/
 file/get/1664169000?profile=original
ATTENDEE;ROLE=REQ-PARTICIPANT;PARTSTAT=ACCEPTED;RSVP=TRUE;CN="VBnightl
 ife.com":https://vbnightlife.com/profile/admin
END:VEVENT
END:VCALENDAR
