BEGIN:VCALENDAR
PRODID:NingEventWidget-v1
VERSION:2.0
METHOD:PUBLISH
BEGIN:VEVENT
UID:2508951:Event:194378
DTSTAMP:20260423T065657Z
SUMMARY:Patriotic Festival: Corvette Museum Racing Tour
DESCRIPTION:\nA Corvette racing tour/exhibit/museum that will be at 2n
 d street and the Oceanfront.\nhttp://www.patrioticfestival.com/happeni
 ngs/\n\nFor more information visit https://vbnightlife.com/events/patr
 iotic-festival-corvette-museum-racing-tour
DTSTART:20120603T040000Z
DTEND:20120604T035900Z
CATEGORIES:"virginia beach events", "patriotic festival"
LOCATION:2nd & Oceanfront
WEBSITE:
URL:
CONTACT:
ORGANIZER;CN="VBnightlife.com":https://vbnightlife.com/profile/admin
ATTACH;FMTTYPE="image/jpeg":http://storage.ning.com/topology/rest/1.0/
 file/get/1664169265?profile=original
ATTENDEE;ROLE=REQ-PARTICIPANT;PARTSTAT=ACCEPTED;RSVP=TRUE;CN="VBnightl
 ife.com":https://vbnightlife.com/profile/admin
END:VEVENT
END:VCALENDAR
