BEGIN:VCALENDAR
PRODID:NingEventWidget-v1
VERSION:2.0
METHOD:PUBLISH
BEGIN:VEVENT
UID:2508951:Event:194268
DTSTAMP:20260423T065534Z
SUMMARY:Patriotic Festival: Chevy Ride & Drive
DESCRIPTION:\nTest Drive Chevrolet Cars at 2nd street.\nhttp://www.pat
 rioticfestival.com/happenings/\n\nFor more information visit https://v
 bnightlife.com/events/patriotic-festival-chevy-ride-drive
DTSTART:20120603T040000Z
DTEND:20120604T035900Z
CATEGORIES:"virginia beach events", "patriotic festival"
LOCATION:Virginia Beach Oceanfront
WEBSITE:http://www.patrioticfestival.com/happenings/
URL:http://www.patrioticfestival.com/happenings/
CONTACT:
ORGANIZER;CN="VBnightlife.com":https://vbnightlife.com/profile/admin
ATTACH;FMTTYPE="image/jpeg":http://storage.ning.com/topology/rest/1.0/
 file/get/1664169257?profile=original
ATTENDEE;ROLE=REQ-PARTICIPANT;PARTSTAT=ACCEPTED;RSVP=TRUE;CN="VBnightl
 ife.com":https://vbnightlife.com/profile/admin
END:VEVENT
END:VCALENDAR
