BEGIN:VCALENDAR
PRODID:NingEventWidget-v1
VERSION:2.0
METHOD:PUBLISH
BEGIN:VEVENT
UID:2508951:Event:16591
DTSTAMP:20260425T114105Z
SUMMARY:PARTY @ THE CONTEMPORARY ARTS CENTER OF VIRGINIA
DESCRIPTION:CAC is \"Keeping the Lights On\" this Tuesday night until 
 9pm!\n\nStacey Allin of Gladmist Glass Design, Inc., is a lampworking 
 jewelry artist. She'll be demonstrating her lampworking from 6-8pm in 
 the atrium.\n\nRefreshments including fruit, cheese and a cash bar wit
 h wine and beer.\n\nHightlight tour at 7pm and the glass demonstration
  are both covered by the admission fee. Print out the coupon below for
  $1 off admission!\n\nFor more information visit https://vbnightlife.c
 om/events/party-the-contemporary-arts
DTSTART:20090629T220000Z
DTEND:20090629T230000Z
CATEGORIES:art
LOCATION:Virginia Beach
WEBSITE:
URL:
CONTACT:
ORGANIZER;CN="VBnightlife.com":https://vbnightlife.com/profile/admin
ATTACH;FMTTYPE="image/jpeg":http://storage.ning.com/topology/rest/1.0/
 file/get/1664078774?profile=original
ATTENDEE;ROLE=REQ-PARTICIPANT;PARTSTAT=ACCEPTED;RSVP=TRUE;CN="VBnightl
 ife.com":https://vbnightlife.com/profile/admin
END:VEVENT
END:VCALENDAR
