BEGIN:VCALENDAR
PRODID:NingEventWidget-v1
VERSION:2.0
METHOD:PUBLISH
BEGIN:VEVENT
UID:2508951:Event:7353
DTSTAMP:20260425T191341Z
SUMMARY:PARTY IN PARADISE: MONTE CARLO
DESCRIPTION:The seventh annual American Diabetes Association party wil
 l be held at 6pm Saturday at the Hilton Virginia beach Oceanfront. Tic
 kets are $150 per person. Reservation deadline is Wednesday. call 424-
 6662 ext. 3269\nor\nvisit diabetes.org (click \"community Programs and
  Local Events\"\n\nFor more information visit https://vbnightlife.com/
 events/party-in-paradise-monte-carlo
DTSTART:20090307T230000Z
DTEND:20090308T040000Z
CATEGORIES:fundraiser
LOCATION:Hilton Virginia Beach Oceanfront
WEBSITE:
URL:
CONTACT:
ORGANIZER:Hilton Virginia Beach Oceanfront
ATTACH;FMTTYPE="image/jpeg":http://storage.ning.com/topology/rest/1.0/
 file/get/1664069119?profile=original
ATTENDEE;ROLE=REQ-PARTICIPANT;PARTSTAT=ACCEPTED;RSVP=TRUE;CN="Nicole M
 axino":https://vbnightlife.com/profile/NicoleMaxino
END:VEVENT
END:VCALENDAR
