BEGIN:VCALENDAR
PRODID:NingEventWidget-v1
VERSION:2.0
METHOD:PUBLISH
BEGIN:VEVENT
UID:2508951:Event:106739
DTSTAMP:20260421T213047Z
SUMMARY:Pancakes 4 Parkinson's
DESCRIPTION:Please join the Melvin Weinstein Parkinson's Foundation on
  April 26, 2011 at Pop's Diner!\n \nPop's Diner will donate 10% of th
 e proceeds from our guests to the MWPF for Parkinson's Awareness month
 .\n \nBring your friends and family, including the kids!!! Nothing is
  better than Breakfast for Dinner!\n\nFor more information visit https
 ://vbnightlife.com/events/pancakes-4-parkinsons
DTSTART:20110426T200000Z
DTEND:20110427T010000Z
CATEGORIES:"virginia beach fundraiser", "virginia beach dinner"
LOCATION:Pop's Diner
WEBSITE:
URL:
CONTACT:
ORGANIZER:VBnightlife.com / VBdaylife.com
ATTACH;FMTTYPE="image/jpeg":http://storage.ning.com/topology/rest/1.0/
 file/get/1664141153?profile=original
ATTENDEE;ROLE=REQ-PARTICIPANT;PARTSTAT=ACCEPTED;RSVP=TRUE;CN="VBnightl
 ife.com":https://vbnightlife.com/profile/admin
END:VEVENT
END:VCALENDAR
