BEGIN:VCALENDAR
PRODID:NingEventWidget-v1
VERSION:2.0
METHOD:PUBLISH
BEGIN:VEVENT
UID:2508951:Event:323820
DTSTAMP:20260422T180155Z
SUMMARY:Pajama Party Winter Bar Crawl - Fundraiser
DESCRIPTION:Make it one of your 2016 New Year's resolutions to contrib
 ute to \"FINDING A CURE\" for cancer!! Your 1st opportunity is the win
 ter's hottest bar crawl.......the 4 On The Shore \"Pajama Party\" Wint
 er Crawl!! Please, please, please use the \"Invite\" tab to include al
 l of your friends. The schedule of stops is below. Your $30 entry fee
  can be paid in advance (advance payment information to come as we get
  closer to the event), as well as via cash, check or credit card at th
 e door, the night of the event. Your entry includes one drink at each 
 location, a commemorative t-shirt, a souvenir pint glass, and discount
 ed refills with your glass. If you cannot make it to the event, but wo
 uld still like to support the cause, 100% tax-deductible donations ca
 n be made on the link below:http://pages.teamintraining.org/va/yourway
 16/jterrySchedule of Stops:ShoreBreak 4-6pmParlay's 6-7:30pmO'Leary's 
 7:30-9pmHot Tuna 9pm-???All of the proceeds from the 4 On The Shore Ba
 r Crawls benefit the Leukemia & Lymphoma Society's Team In Training pr
 ogram. These funds provide valuable dollars for cancer research, as we
 ll as patient services for patients fighting this awful disease. Plea
 se help us \"Find A Cure\".......one drink at a time!!!Sincerely,JT\nF
 acebook event: https://www.facebook.com/events/1008951435833761/\n\n\
 nFor more information visit https://vbnightlife.com/events/pajama-part
 y-winter-bar-crawl-fundraiser
DTSTART:20160130T210000Z
DTEND:20160131T044500Z
CATEGORIES:fundraiser, "bar crawl", "shore drive"
LOCATION:Shore Drive Area
WEBSITE:
URL:
CONTACT:
ORGANIZER;CN="VBnightlife.com":https://vbnightlife.com/profile/admin
ATTACH;FMTTYPE="image/jpeg":http://storage.ning.com/topology/rest/1.0/
 file/get/1664299904?profile=original
ATTENDEE;ROLE=REQ-PARTICIPANT;PARTSTAT=ACCEPTED;RSVP=TRUE;CN="VBnightl
 ife.com":https://vbnightlife.com/profile/admin
END:VEVENT
END:VCALENDAR
