BEGIN:VCALENDAR
PRODID:NingEventWidget-v1
VERSION:2.0
METHOD:PUBLISH
BEGIN:VEVENT
UID:2508951:Event:50448
DTSTAMP:20260420T044112Z
SUMMARY:OTTERBERFEST - DRINK UP FOR THE ANIMALS - FEATURING JACKNIFE, 
 BLACKBIRD POND AND THE SHOREBREAKERS
DESCRIPTION:If you want to help some animals while you savor your suds
 , check out:\n\nOttertoberfest on Saturday at First Landing State Park
  in Virginia Beach. It benefits the building fund for Wildlife Respons
 e Inc.'s rehabilitation center, the only one of its kind in the region
 . The group cares for injured, orphaned or abandoned wildlife.\n\nTher
 e'll be music from Jacknife, Blackbird Pond and The Shorebreakers, and
  beer from Hoffman Beverage.\n\nEvents Family fun and educational even
 ts from 10 a.m. to 2 p.m. ($10)\n\nIndulge Beer tastings from 4:30 to 
 9:30 p.m. ($20); all-day fun from 10 a.m. to 9:30 p.m. ($30); food ven
 dors serving all day.\n\nGames Enter the Bier Games with three of your
  best pals\n\nMore information Call The Wildlife Response Hotline at (
 757) 543-7000.\n\nFor more information visit https://vbnightlife.com/e
 vents/otterberfest-drink-up-for-the
DTSTART:20101016T140000Z
DTEND:20101017T013000Z
CATEGORIES:fundraiser
LOCATION:First Landing State Park
WEBSITE:
URL:
CONTACT:
ORGANIZER;CN="VBnightlife.com":https://vbnightlife.com/profile/admin
ATTACH;FMTTYPE="image/jpeg":
ATTENDEE;ROLE=REQ-PARTICIPANT;PARTSTAT=ACCEPTED;RSVP=TRUE;CN="VBnightl
 ife.com":https://vbnightlife.com/profile/admin
END:VEVENT
END:VCALENDAR
