BEGIN:VCALENDAR
PRODID:NingEventWidget-v1
VERSION:2.0
METHOD:PUBLISH
BEGIN:VEVENT
UID:2508951:Event:203529
DTSTAMP:20260422T134721Z
SUMMARY:Orange County Punk Legends GUTTERMOUTH
DESCRIPTION:--151 Productions & WRV presents--  \"Kiss Your Summer Goo
 dbye Bash 2012\"  Featuring Orange County punk legends GUTTERMOUTH !!
 !\n + special guests THE NEW THREAT , SPOILED AMERICANS+ AVERMAN  We'v
 e teamed up with WRV to bring you the biggest and most ridiculous end 
 of summer party VB has ever seen....go ahead and clear your calendar!!
 !  ---There will be a special premiere of the new FOX RACING surf vide
 o \"NO FILTER\" played at the show!  ---Giveaways from WAVE RIDING VEH
 ICLES  ---Old School punk rock DJ sets between bands and before the sh
 ow  ---VINYL DAZE RECORDS will be hanging out slinging vinyl all night
 !  ALL AGES $15 Doors 7pm Show 8pm  Tickets on sale NOW at the club or
  online by clicking this link- http://jewishmother.inticketing.com/eve
 nts/241727  www.facebook.com/thespoiledamericans\n\nFor more informati
 on visit https://vbnightlife.com/events/orange-county-punk-legends-gut
 termouth
DTSTART:20120913T000000Z
DTEND:20120913T030000Z
CATEGORIES:concert
LOCATION:JEWISH MOTHER HILLTOP
WEBSITE:
URL:
CONTACT:
ORGANIZER;CN="VBnightlife.com":https://vbnightlife.com/profile/admin
ATTACH;FMTTYPE="image/jpeg":http://storage.ning.com/topology/rest/1.0/
 file/get/1664181680?profile=original
ATTENDEE;ROLE=REQ-PARTICIPANT;PARTSTAT=ACCEPTED;RSVP=TRUE;CN="VBnightl
 ife.com":https://vbnightlife.com/profile/admin
END:VEVENT
END:VCALENDAR
