BEGIN:VCALENDAR
PRODID:NingEventWidget-v1
VERSION:2.0
METHOD:PUBLISH
BEGIN:VEVENT
UID:2508951:Event:198637
DTSTAMP:20260423T090427Z
SUMMARY:OpSail 2012
DESCRIPTION:OpSail Schedule of Entertainment\n\nFrom June 1 -12, 2012,
  the Port of Virginia will once again host an impressive fleet of tall
  ships, navy and military war ships representing the world. OpSail 201
 2 Virginia is planned to illuminate the community with spectacle and f
 estivity, and will place our Commonwealth front and center on the worl
 d stage.\nThe goals of OpSail and the 1812 commemoration events are pl
 anned to promote goodwill among nations, inspire patriotism and foster
  interest in American maritime history and heritage, while creating un
 ique educational opportunities for young and old alike and bringing ec
 onomic and social benefit to our communities.\nIn June 2012, Virginia 
 will host OpSail 2012 and the Commemoration of the War of 1812 and the
  Star Spangled Banner, leaving its spectacular signature on this gener
 ation and reinforcing the Port of Virginia's rightful place as one of 
 the greatest ports in the world.\nOpSail 2012 Virginia is managed by N
 orfolk Festevents, Ltd., based in Norfolk, VA.\n\nFor more information
  visit https://vbnightlife.com/events/opsail-2012
DTSTART:20120612T040000Z
DTEND:20120613T035900Z
CATEGORIES:"opsail 2012 virginia", "hampton roads events", "hampton ro
 ads family events", "hampton roads summer"
LOCATION:Hampton Roads
WEBSITE:http://www.festevents.org/mini-site/Norfolk-harborfest/Norfolk
 -harborfest-stage-schedule
URL:http://www.festevents.org/mini-site/Norfolk-harborfest/Norfolk-har
 borfest-stage-schedule
CONTACT:
ORGANIZER;CN="VBnightlife.com":https://vbnightlife.com/profile/admin
ATTACH;FMTTYPE="image/jpeg":http://storage.ning.com/topology/rest/1.0/
 file/get/1664173462?profile=original
ATTENDEE;ROLE=REQ-PARTICIPANT;PARTSTAT=ACCEPTED;RSVP=TRUE;CN="Rolan St
 ears":https://vbnightlife.com/profile/RolanStears
ATTENDEE;ROLE=REQ-PARTICIPANT;PARTSTAT=ACCEPTED;RSVP=TRUE;CN="VBnightl
 ife.com":https://vbnightlife.com/profile/admin
END:VEVENT
END:VCALENDAR
