BEGIN:VCALENDAR
PRODID:NingEventWidget-v1
VERSION:2.0
METHOD:PUBLISH
BEGIN:VEVENT
UID:2508951:Event:28546
DTSTAMP:20260425T071751Z
SUMMARY:OPEN MIC W/ DAHNA ROWE AT THE 15TH STREET RAW BAR FRIDAY NIGHT
DESCRIPTION:Mention VBnightlife to your server and receive Happy Hour 
 Drink prices ALL NIGHT LONG including $2 Domestic Beers, $3.50 Wells a
 nd Imports, $2.50 Shooters, $5 Wine and $2.50 Draft Beer!\n\nRegister 
 by 8pm to participate it the Open Mic!\n\nFor more information visit h
 ttps://vbnightlife.com/events/open-mic-w-dahna-rowe-at-the
DTSTART:20100129T050000Z
DTEND:20100130T045900Z
CATEGORIES:band, "/", open, mic
LOCATION:15th Street Raw Bar
WEBSITE:
URL:
CONTACT:
ORGANIZER;CN="VBnightlife.com":https://vbnightlife.com/profile/admin
ATTACH;FMTTYPE="image/jpeg":http://storage.ning.com/topology/rest/1.0/
 file/get/1664098457?profile=original
ATTENDEE;ROLE=REQ-PARTICIPANT;PARTSTAT=ACCEPTED;RSVP=TRUE;CN="VBnightl
 ife.com":https://vbnightlife.com/profile/admin
END:VEVENT
END:VCALENDAR
