BEGIN:VCALENDAR
PRODID:NingEventWidget-v1
VERSION:2.0
METHOD:PUBLISH
BEGIN:VEVENT
UID:2508951:Event:10107
DTSTAMP:20260425T173014Z
SUMMARY:OPEN MIC JAM NIGHT @BAYSIDE INN
DESCRIPTION:8PM\n\nFor more information visit https://vbnightlife.com/
 events/open-mic-jam-night-bayside-inn
DTSTART:20090402T220000Z
DTEND:20090402T230000Z
CATEGORIES:open, mic
LOCATION:Bayside Inn
WEBSITE:
URL:
CONTACT:
ORGANIZER:Bayside Inn
ATTACH;FMTTYPE="image/jpeg":http://storage.ning.com/topology/rest/1.0/
 file/get/1664070071?profile=original
ATTENDEE;ROLE=REQ-PARTICIPANT;PARTSTAT=ACCEPTED;RSVP=TRUE;CN="Nicole M
 axino":https://vbnightlife.com/profile/NicoleMaxino
END:VEVENT
END:VCALENDAR
