BEGIN:VCALENDAR
PRODID:NingEventWidget-v1
VERSION:2.0
METHOD:PUBLISH
BEGIN:VEVENT
UID:2508951:Event:9952
DTSTAMP:20260425T160152Z
SUMMARY:ODU VS BRADLEY CIT - CHAMPIONSHIP @ SHOREBREAK
DESCRIPTION:SHOREBREAK\nStreet: 2491 SHORE DRIVE\nPhone: 7574819393\n\
 n7PM TO 12AM\n\nFor more information visit https://vbnightlife.com/eve
 nts/odu-vs-bradley-cit
DTSTART:20090331T040000Z
DTEND:20090401T035900Z
CATEGORIES:sports
LOCATION:Shorebreak
WEBSITE:
URL:
CONTACT:
ORGANIZER:Shorebreak
ATTACH;FMTTYPE="image/jpeg":http://storage.ning.com/topology/rest/1.0/
 file/get/1664069789?profile=original
ATTENDEE;ROLE=REQ-PARTICIPANT;PARTSTAT=ACCEPTED;RSVP=TRUE;CN="Nicole M
 axino":https://vbnightlife.com/profile/NicoleMaxino
END:VEVENT
END:VCALENDAR
