BEGIN:VCALENDAR
PRODID:NingEventWidget-v1
VERSION:2.0
METHOD:PUBLISH
BEGIN:VEVENT
UID:2508951:Event:186731
DTSTAMP:20260423T132522Z
SUMMARY:Click here for THURSDAY 1/26/11 VIRGINA BEACH ENTERTAINMENT LI
 STINGS
DESCRIPTION:ENTERTAINMENT\n45 Degrees- HM Johnson\nAbbey Road- Magical
  Mystical Tour\nBoneshakers - Happy Hour 3-7 - Marisol's Birthday - Ja
 ck Becker 8 to 11 + Prime Rib night every Thursday $1.50 oz cut to ord
 er\nCalypso- Dave and the Dark Matter\nCinema Cafe (Pembroke)- Comedy 
 Night, 9-11PM\nCobalt Grill- Live Jazz\nDoc Taylors- The Big Something
 , 8:30PM\nFlashbacks- Billy Joe Trio (Every Thursday)\nGuadalajara - (
 Town Center) Throwback Thursday with DJ Bee 10PM  (every thursday)\nH
 avana Nights-John Toomey Trio w/ special guest Saxophonist Gary Thomas
 , 8-11PM\nH20- Jesse Chong, 10PM\nIcehouse - Brandon Bower 9pmm\nIL Gi
 ardino- Live Entertainment in the lounge w/ Mr. Billy Batte- 7PM\nKeag
 ans- Steve Forss, 10PM\nMurphys- Brian Holloran, 9PM\nO'Learys- (Lynnh
 aven Dr) Service Industry Night, 10PM\nSalty C's- (Shore Dr) Open Mic\
 nShakas- Battle at the beach (DJ EDITION), FREQSHO\n\nTHEATRE/FUNDRAIS
 ERS/CONCERTS/SPORTS:\nFunnybone- Al Goodwin, 8PM\nWells Theatre- Black
  Pearl Sings, 7PM\nLittle Theatre of Virginia Beach- Getting Away with
  Murder (through February 5th)\n\nDJ’S/KARAOKE/DANCES:\nRetro Cafe- 
 Karaoke\nChicho’s 29th - *KARAOKE\nGreen Parrot- Open Mic w/ Dahna R
 owe\nJewish Mother- MOMS KARAOKE 8pm\nWannaB's- KARAOKE 7 PM - 2 AM  
 Monday - Saturday (21 and Older)\nCLICK HERE FOR HAPPY HOUR DEALS\nCLI
 CK HERE REACH OUR VENUE'S PAGE\nCLICK HERE FOR OUR BAND/DJ PAGE\n\n\nF
 or more information visit https://vbnightlife.com/events/o
DTSTART:20120126T050000Z
DTEND:20120127T045900Z
CATEGORIES:"virginia beach", "virginia beach entertainment", "virginia
  beach bands", "virginia beach nightlife"
LOCATION:Virginia Beach
WEBSITE:
URL:
CONTACT:
ORGANIZER;CN="VBnightlife.com":https://vbnightlife.com/profile/admin
ATTACH;FMTTYPE="image/jpeg":http://storage.ning.com/topology/rest/1.0/
 file/get/1664161994?profile=original
ATTENDEE;ROLE=REQ-PARTICIPANT;PARTSTAT=ACCEPTED;RSVP=TRUE;CN="VBnightl
 ife.com":https://vbnightlife.com/profile/admin
END:VEVENT
END:VCALENDAR
