BEGIN:VCALENDAR
PRODID:NingEventWidget-v1
VERSION:2.0
METHOD:PUBLISH
BEGIN:VEVENT
UID:2508951:Event:200653
DTSTAMP:20260419T215929Z
SUMMARY:SUMMERLAND TOUR AT NTELOS PAVILION - BUY ONE GET ONE FREE!
DESCRIPTION:Purchase 1 Gold Circle or 1 Lawn ticket and receive the se
 cond one FREE!\nClick the BUY TICKETS button below and use the passwor
 d ROCK90 to purchase your tickets\n \n \nTickets On Sale Now!\n\n\n\
 nFor more information visit https://vbnightlife.com/events/ntelos-pavi
 lion
DTSTART:20120717T040000Z
DTEND:20120718T035900Z
CATEGORIES:concert, discount
LOCATION:NTELOS WIRELESS PAVILION
WEBSITE:
URL:
CONTACT:
ORGANIZER;CN="VBnightlife.com":https://vbnightlife.com/profile/admin
ATTACH;FMTTYPE="image/jpeg":http://storage.ning.com/topology/rest/1.0/
 file/get/1664177864?profile=original
ATTENDEE;ROLE=REQ-PARTICIPANT;PARTSTAT=ACCEPTED;RSVP=TRUE;CN="VBnightl
 ife.com":https://vbnightlife.com/profile/admin
END:VEVENT
END:VCALENDAR
