BEGIN:VCALENDAR
PRODID:NingEventWidget-v1
VERSION:2.0
METHOD:PUBLISH
BEGIN:VEVENT
UID:2508951:Event:189720
DTSTAMP:20260423T103117Z
SUMMARY:NOVENTA Red Carpet Film Premiere
DESCRIPTION:Come on out for the Red Carpet Premiere for the intriguing
  new film NOVENTA. After the film there will be a concert with a live 
 salsa band. So come out and party and support Hampton Roads Finest. T
 ickets are only $8 and can be purchased via paypal at Linkctprods@gmai
 l.com. Make it a great date night or just hang out with family and fri
 ends. SEATING IS LIMITED so get yours while supplies last.Any addition
 al questions, please feel free to shoot me an email. I look forward to
  seeing you there.\n\nFor more information visit https://vbnightlife.c
 om/events/noventa-red-carpet-film-premiere
DTSTART:20120227T010000Z
DTEND:20120227T040000Z
CATEGORIES:film, premiere, and, concert
LOCATION:The Naro Expanded Cinema
WEBSITE:http://noventa.filmbinder.com/
URL:http://noventa.filmbinder.com/
CONTACT:(757) 971-3126
ORGANIZER;CN="AW Leath":https://vbnightlife.com/profile/AWLeath
ATTACH;FMTTYPE="image/jpeg":http://storage.ning.com/topology/rest/1.0/
 file/get/1664163097?profile=original
ATTENDEE;ROLE=REQ-PARTICIPANT;PARTSTAT=ACCEPTED;RSVP=TRUE;CN="AW Leath
 ":https://vbnightlife.com/profile/AWLeath
END:VEVENT
END:VCALENDAR
