BEGIN:VCALENDAR
PRODID:NingEventWidget-v1
VERSION:2.0
METHOD:PUBLISH
BEGIN:VEVENT
UID:2508951:Event:164049
DTSTAMP:20260421T211159Z
SUMMARY:North Sea Gas
DESCRIPTION:\nGeneral Admission\n$22\n\nSeniors, Military & Students w
 /ID\n$19\n\nTFFM & SST Members\n$18\n\nChildren 7–17 w/paying adult\
 n1/2 price\n\nChildren under 7\nfree\n\n\n\n\nFor more information vis
 it https://vbnightlife.com/events/north-sea-gas
DTSTART:20111008T230000Z
DTEND:20111009T020000Z
CATEGORIES:celtic, concert
LOCATION:Meyera E. Oberndorf Central
WEBSITE:http://www.tffm.org
URL:http://www.tffm.org
CONTACT:757-626-FOLK(3655)
ORGANIZER;CN="Tidewater Friends Acoustic Music":https://vbnightlife.co
 m/profile/TidewaterFriendsofFolkMusic71
ATTACH;FMTTYPE="image/jpeg":http://storage.ning.com/topology/rest/1.0/
 file/get/1664150052?profile=original
ATTENDEE;ROLE=REQ-PARTICIPANT;PARTSTAT=ACCEPTED;RSVP=TRUE;CN="Tidewate
 r Friends Acoustic Music":https://vbnightlife.com/profile/TidewaterFri
 endsofFolkMusic71
END:VEVENT
END:VCALENDAR
