BEGIN:VCALENDAR
PRODID:NingEventWidget-v1
VERSION:2.0
METHOD:PUBLISH
BEGIN:VEVENT
UID:2508951:Event:100900
DTSTAMP:20260423T141335Z
SUMMARY:North End Wine Club's JULY Wine Tasting with James Deans
DESCRIPTION:\nFEATURING LIVE MUSIC BY JAMES DEANS!\n \nOnly $15 for a
  fantastic evening of wine tasting and Chef Derrick's fabulous appetiz
 ers. As always, we will have our special Collectible Wine selection a
 vailable for sale.\n \nThis monthly wine tasting now takes place year
  round as locals gathers monthly at our favorite beach restaurant to e
 njoy good company and great wine. The North End Wine Club doesn’t 
 have a formal membership. While open to all, there is a minimal charge
  paid per event at the door. Come check us out, but space is limited s
 o make a reservation!\n\nFor more information visit https://vbnightlif
 e.com/events/north-end-wine-clubs-july-wine
DTSTART:20110720T220000Z
DTEND:20110721T000000Z
CATEGORIES:"virginia beach wine", "virginia beach wine tasting", "virg
 inia beach"
LOCATION:Surf Club at the Wyndham
WEBSITE:
URL:
CONTACT:
ORGANIZER:VBnightlife.com / VBdaylife.com
ATTACH;FMTTYPE="image/jpeg":http://storage.ning.com/topology/rest/1.0/
 file/get/1664136373?profile=original
ATTENDEE;ROLE=REQ-PARTICIPANT;PARTSTAT=ACCEPTED;RSVP=TRUE;CN="Kristen 
 Singleton":https://vbnightlife.com/profile/KristenSingleton
ATTENDEE;ROLE=REQ-PARTICIPANT;PARTSTAT=ACCEPTED;RSVP=TRUE;CN="VBnightl
 ife.com":https://vbnightlife.com/profile/admin
ATTENDEE;ROLE=REQ-PARTICIPANT;PARTSTAT=ACCEPTED;RSVP=TRUE;CN="Fran Har
 ding":https://vbnightlife.com/profile/FranHarding
ATTENDEE;ROLE=REQ-PARTICIPANT;PARTSTAT=ACCEPTED;RSVP=TRUE;CN="Erica Re
 dman":https://vbnightlife.com/profile/EricaRedman
ATTENDEE;ROLE=REQ-PARTICIPANT;PARTSTAT=ACCEPTED;RSVP=TRUE;CN="Linda Ja
 nssen":https://vbnightlife.com/profile/LindaJanssen
ATTENDEE;ROLE=REQ-PARTICIPANT;PARTSTAT=ACCEPTED;RSVP=TRUE;CN="Mrs. A F
 ells":https://vbnightlife.com/profile/MrsAFells
ATTENDEE;ROLE=REQ-PARTICIPANT;PARTSTAT=TENTATIVE;RSVP=TRUE;CN="mark ba
 rr":https://vbnightlife.com/profile/markbarr
END:VEVENT
END:VCALENDAR
