BEGIN:VCALENDAR
PRODID:NingEventWidget-v1
VERSION:2.0
METHOD:PUBLISH
BEGIN:VEVENT
UID:2508951:Event:198536
DTSTAMP:20260423T064608Z
SUMMARY:North American Sand Soccer Championships
DESCRIPTION:Friday, June 8 through Sunday, June 10 - North American Sa
 nd Soccer Championships\nKnown internationally as the “Gran Prix” 
 of beach/sand soccer, the 19th edition will host 10,000 youth and adul
 t players from 16 states and 20 countries during the Oceanside festiva
 l between 14th and 36th streets. Presented by McDonald’s ofSoutheast
 ern VAandNortheastern NC, the sand-blasting 5 v. 5 competition is play
 ed on 25-35 or 30-40 yard grids. Shots on goal average 60 per match. O
 ver 70 age/skill brackets exist to support all levels of play. The cen
 terpiece of NASSC is the Int'l pro/am men’s “U.S. OPEN”. Ten hig
 hly skilled teams will be battling for the title of “U.S. National C
 hampion”. The festival offers beach coed football and beach lacrosse
 . \n\nWhere: Virginia Beach Oceanfront- between 14th and 36th Streets
 \nWhen: n/a\nWho: open to the public\nHow: http://www.visitvirginiabe
 ach.com/Listings/North_American_Sand_Soccer_Championships.asp\nCost: 
 free to spectate; registration fees to participate\n\n\nFor more infor
 mation visit https://vbnightlife.com/events/north-american-sand-soccer
 -championships
DTSTART:20120610T040000Z
DTEND:20120611T035900Z
CATEGORIES:"sand soccer"
LOCATION:Oceanfront between 14th and 36th
WEBSITE:
URL:
CONTACT:
ORGANIZER:VBnightlife.com / VBdaylife.com
ATTACH;FMTTYPE="image/jpeg":
ATTENDEE;ROLE=REQ-PARTICIPANT;PARTSTAT=ACCEPTED;RSVP=TRUE;CN="VBnightl
 ife.com":https://vbnightlife.com/profile/admin
END:VEVENT
END:VCALENDAR
