BEGIN:VCALENDAR
PRODID:NingEventWidget-v1
VERSION:2.0
METHOD:PUBLISH
BEGIN:VEVENT
UID:2508951:Event:29737
DTSTAMP:20260420T090600Z
SUMMARY:NOBLEMEN RED HOT VALENTINE'S BALL 2010
DESCRIPTION:individual tickets are $125 and include open bar all night
 , food and 3 bands!\n\nCLICK THE LINK ABOVE FOR DETAILS AND TO PURCHAS
 E TICKETS\n\nThe band in the main Ball Room is Full Circle\nIn the Ral
 eigh Room is Vinyl Headlights\nIn the Hunt Room is Pete Hansen and Lar
 ry Emmanuel\n\nPurchase a Room Package\n\nThe $500 room packages are i
 nclusive of:\n\n2 tickets to the ball ~ all you can eat & drink, 3 ban
 ds\n1 great historic remodeled room in the Old Cavalier Hotel\nSpecial
  room decorations and surprise gifts\nFor the early birds, doors are o
 pen in the Cavalier Lobby from 4:30 - 6PM (cash bar)\n2 tickets to pri
 vate (no admission w/o ticket) after party ~ open bar ~ SLIDERS!\n2 ti
 ckets to Sunday's fabulous brunch w/ mimosas & bloody mary bar\nOpport
 unity to help more kids\n\nThere are a limited number and are sold on 
 a first come first served basis. The earlier you buy your package, the
  better room you will get. All the rooms are fabulous, but some are tr
 uly spectacular with Jacuzzis etc.\n\n\n~~~~~~~~~~~~~~~~~~~~~~~~~~~~~~
 ~~~~~~~~~\nThe $425 room packages are inclusive of:\n\n2 tickets to th
 e ball ~ all you can eat & drink, 3 bands\n1 great ocean view room in 
 the New Cavalier ~ Oceanfront\nSpecial room decorations and surprise g
 ifts\nFor the early birds, doors are open in the Cavalier Lobby from 4
 :30 - 6PM (cash bar)\n2 tickets to private (no admission w/o ticket) a
 fter party ~ open bar ~ SLIDERS!\n2 tickets to Sunday's fabulous brunc
 h w/ mimosas & bloody mary bar\nFree shuttle to & from the party\nOppo
 rtunity to help more kids\n\nFor more information visit https://vbnigh
 tlife.com/events/noblemen-red-hot-valentines
DTSTART:20100213T050000Z
DTEND:20100214T045900Z
CATEGORIES:fundraiser
LOCATION:Old Cavalier on the Hill
WEBSITE:http://thenoblemen.org/red_hot_valentines_ball_2010/
URL:http://thenoblemen.org/red_hot_valentines_ball_2010/
CONTACT:
ORGANIZER;CN="VBnightlife.com":https://vbnightlife.com/profile/admin
ATTACH;FMTTYPE="image/jpeg":http://storage.ning.com/topology/rest/1.0/
 file/get/1664099192?profile=original
ATTENDEE;ROLE=REQ-PARTICIPANT;PARTSTAT=ACCEPTED;RSVP=TRUE;CN="Al Midge
 tt":https://vbnightlife.com/profile/AlMidgett
ATTENDEE;ROLE=REQ-PARTICIPANT;PARTSTAT=ACCEPTED;RSVP=TRUE;CN="VBnightl
 ife.com":https://vbnightlife.com/profile/admin
END:VEVENT
END:VCALENDAR
