BEGIN:VCALENDAR
PRODID:NingEventWidget-v1
VERSION:2.0
METHOD:PUBLISH
BEGIN:VEVENT
UID:2508951:Event:36586
DTSTAMP:20260425T203639Z
SUMMARY:Nick Kepics Jazz at Hayashi, Newport News
DESCRIPTION:The Nick Kepics Jazz Experience takes place every third Th
 ursday at Hayashi Sushi & Grill in City Center at Oyster Point.\n\nFor
  more information visit https://vbnightlife.com/events/nick-kepics-jaz
 z-at-hayashi
DTSTART:20100521T000000Z
DTEND:20100521T030000Z
CATEGORIES:thursday, live, jazz, night
LOCATION:City Center at Oyster Point
WEBSITE:http://www.hayashisushigrill.com/ordereze/default.aspx
URL:http://www.hayashisushigrill.com/ordereze/default.aspx
CONTACT:TEL: 757-223-5783
ORGANIZER;CN="Nick Kepics":https://vbnightlife.com/profile/NickKepics
ATTACH;FMTTYPE="image/jpeg":http://storage.ning.com/topology/rest/1.0/
 file/get/1664108774?profile=original
ATTENDEE;ROLE=REQ-PARTICIPANT;PARTSTAT=ACCEPTED;RSVP=TRUE;CN="Nick Kep
 ics":https://vbnightlife.com/profile/NickKepics
END:VEVENT
END:VCALENDAR
