BEGIN:VCALENDAR
PRODID:NingEventWidget-v1
VERSION:2.0
METHOD:PUBLISH
BEGIN:VEVENT
UID:2508951:Event:323643
DTSTAMP:20260423T112032Z
SUMMARY:NEW YEAR'S EVE AT LONGSHOTS BILLIARDS & DARTS
DESCRIPTION:\nCome out and hang with all of us at ‪#‎Longshots‬
 \nFree to enter(with vip).\nFree food buffet at midnight and free cham
 pagne!\nRaffle for a 50in flatscreen and more!\nThirsty Thursday's!\n\
 n\nFor more information visit https://vbnightlife.com/events/new-year-
 s-eve-at-longshots-billiards-darts
DTSTART:20151231T050000Z
DTEND:20160101T045900Z
CATEGORIES:"new years eve 2015", "new years eve virginia beach"
LOCATION:Longshots Billiards and Darts
WEBSITE:
URL:
CONTACT:
ORGANIZER;CN="VBnightlife.com":https://vbnightlife.com/profile/admin
ATTACH;FMTTYPE="image/jpeg":http://storage.ning.com/topology/rest/1.0/
 file/get/1664296358?profile=original
ATTENDEE;ROLE=REQ-PARTICIPANT;PARTSTAT=ACCEPTED;RSVP=TRUE;CN="VBnightl
 ife.com":https://vbnightlife.com/profile/admin
END:VEVENT
END:VCALENDAR
