BEGIN:VCALENDAR
PRODID:NingEventWidget-v1
VERSION:2.0
METHOD:PUBLISH
BEGIN:VEVENT
UID:2508951:Event:164136
DTSTAMP:20260423T162633Z
SUMMARY:\"New Beer on the Block\" Night at 11th Street Taphouse featur
 ing HARPOON with Brandon Bower performing.
DESCRIPTION:Great times at Taphouse the 3rd Thursday of every month th
 ey are introducing the \"New Beer on the Block\" from 6 to 10. \n \n
 \n \nPlease stop by this this Thursday to ty Harpoon from Boston and
  as always the food is fabulous so order up and sit down with a cold b
 eer and enjoy!  Harpoon Beers each have their own individual characte
 ristics in terms of taste, color and body.  Ther goal is to make be
 ers that are distinctive and, most importantly, a pleasure to drink.\n
  \nVBnightlife is in the house.\n\nFor more information visit https:/
 /vbnightlife.com/events/new-beer-on-the-block-night-at-11th-street-tap
 house-featuring-har
DTSTART:20110818T220000Z
DTEND:20110819T010000Z
CATEGORIES:new, beer, on, the, "block!"
LOCATION:11th Street Taphouse
WEBSITE:http://11taphouse.com/
URL:http://11taphouse.com/
CONTACT:(757) 321-8354
ORGANIZER;CN="VBnightlife.com":https://vbnightlife.com/profile/admin
ATTACH;FMTTYPE="image/jpeg":http://storage.ning.com/topology/rest/1.0/
 file/get/1664150517?profile=original
ATTENDEE;ROLE=REQ-PARTICIPANT;PARTSTAT=ACCEPTED;RSVP=TRUE;CN="Rolan St
 ears":https://vbnightlife.com/profile/RolanStears
ATTENDEE;ROLE=REQ-PARTICIPANT;PARTSTAT=ACCEPTED;RSVP=TRUE;CN="VBnightl
 ife.com":https://vbnightlife.com/profile/admin
END:VEVENT
END:VCALENDAR
