BEGIN:VCALENDAR
PRODID:NingEventWidget-v1
VERSION:2.0
METHOD:PUBLISH
BEGIN:VEVENT
UID:2508951:Event:12040
DTSTAMP:20260422T215959Z
SUMMARY:NEVER SO - CD RELEASE PARTY
DESCRIPTION:Come celebrate with Mike Wauhop, Terry Marshall, Pete Desn
 oyers and Trey Smith of Never So!\n\nBlack and White Casual Attire\n\n
 Raffle prizes for those who purchase a CD that night! ($10)\n\nCheck o
 ut Thursday's Beacon for an article on the guys!\n\n8:00pm - 10:00pm\n
 Footers Bar and Grill\n4676 Princess Anne Road\nNorth Virginia Beach\n
 \nFor more information visit https://vbnightlife.com/events/never-so-c
 d-release-party
DTSTART:20090426T000000Z
DTEND:20090426T020000Z
CATEGORIES:cd, release, party
LOCATION:Footers Bar
WEBSITE:
URL:
CONTACT:
ORGANIZER;CN="Nicole Maxino":https://vbnightlife.com/profile/NicoleMax
 ino
ATTACH;FMTTYPE="image/jpeg":http://storage.ning.com/topology/rest/1.0/
 file/get/1664070675?profile=original
ATTENDEE;ROLE=REQ-PARTICIPANT;PARTSTAT=ACCEPTED;RSVP=TRUE;CN="Nicole M
 axino":https://vbnightlife.com/profile/NicoleMaxino
END:VEVENT
END:VCALENDAR
