BEGIN:VCALENDAR
PRODID:NingEventWidget-v1
VERSION:2.0
METHOD:PUBLISH
BEGIN:VEVENT
UID:2508951:Event:56977
DTSTAMP:20260424T225743Z
SUMMARY:NEED FOR YARN
DESCRIPTION:For many years I have been creating (knitting and crocheti
 ng) hats and scarves for several charities in our area (Disabled Ameri
 can Veterans, Salvation Army, Marion Manor, etc.). Fellow yarn users h
 ave been kind enough to donate their leftovers to me. Unfortunately, t
 he past couple of years have resulted in using up all of my surplus an
 d theirs. Will you please think of me before tossing this valuable yar
 n into the garbage? It would be appreciated by so many others.\n\nThan
 k you for your consideration and kindness!\n\nHave a blessed Thanksgiv
 ing!!!\n\nDeb\n\ndrdebbysue@hotmail.com\n\nFor more information visit 
 https://vbnightlife.com/events/need-for-yarn
DTSTART:20101130T050000Z
DTEND:20101201T045900Z
CATEGORIES:fundraiser
LOCATION:Virginia Beach
WEBSITE:
URL:
CONTACT:
ORGANIZER;CN="VBnightlife.com":https://vbnightlife.com/profile/admin
ATTACH;FMTTYPE="image/jpeg":http://storage.ning.com/topology/rest/1.0/
 file/get/1664125094?profile=original
ATTENDEE;ROLE=REQ-PARTICIPANT;PARTSTAT=ACCEPTED;RSVP=TRUE;CN="VBnightl
 ife.com":https://vbnightlife.com/profile/admin
END:VEVENT
END:VCALENDAR
