BEGIN:VCALENDAR
PRODID:NingEventWidget-v1
VERSION:2.0
METHOD:PUBLISH
BEGIN:VEVENT
UID:2508951:Event:170938
DTSTAMP:20260420T121804Z
SUMMARY:NATIONAL NIGHT OUT
DESCRIPTION:NATIONAL NIGHT OUT\nUPDATE\nNNO 2011 will be on Tuesday, O
 ctober 4th, 2011. Heat concerns over the past couple years have prompt
 ed the National Association of Town Watch to consider alternative date
 s. Several Hampton Roads cities, including Virginia Beach, will celebr
 ate on the first Tuesday in October this year. In addition to being co
 oler, October is also CRIME PREVENTION month.\nNational Night Out is h
 eld annually to:\n- Heighten crime and drug prevention awareness;\n- G
 enerate support and participation in local anti-crime efforts;\n- Stre
 ngthen neighborhood spirit and police community relations; and\n- Send
  a message to criminals letting them know local communities are organ
 ized and are fighting back.\nAlong with the traditional display of out
 door lights and front porch vigils, cities, towns and neighborhoods ce
 lebrate NNO with a variety of events and activities such as: block par
 ties, cookouts, visits from local police and fire departments, parades
 , flashlight walks, contests and youth programs. NNO has proven to be 
 an effective, inexpensive and enjoyable program to promote neighborhoo
 d spirit and police-community partnerships in our fight for a safer na
 tion. Plus, the benefits your community will derive from NNO will most
  certainly extend well beyond the one night.\nFor more information ple
 ase contact MPO Gillespie at the VBPD Crime Prevention Unit, 385-1331 
 or hgillesp@vbgov.com Additional information about NNO is also availab
 le at\nnationaltownwatch.org and NATW.org\nRegistration forms will be 
 mailed out soon. Start planning your event now, and stay tuned for mor
 e information.\n\nFor more information visit https://vbnightlife.com/e
 vents/national-night-out-1
DTSTART:20111004T213000Z
DTEND:20111004T230000Z
CATEGORIES:community, event
LOCATION:ALL OVER HAMPTON ROADS
WEBSITE:
URL:
CONTACT:
ORGANIZER;CN="VBnightlife.com":https://vbnightlife.com/profile/admin
ATTACH;FMTTYPE="image/jpeg":http://storage.ning.com/topology/rest/1.0/
 file/get/1664154882?profile=original
ATTENDEE;ROLE=REQ-PARTICIPANT;PARTSTAT=ACCEPTED;RSVP=TRUE;CN="VBnightl
 ife.com":https://vbnightlife.com/profile/admin
END:VEVENT
END:VCALENDAR
