BEGIN:VCALENDAR
PRODID:NingEventWidget-v1
VERSION:2.0
METHOD:PUBLISH
BEGIN:VEVENT
UID:2508951:Event:7706
DTSTAMP:20260425T201654Z
SUMMARY:NARISSA BOND @ THE SPRING LOADED ART & MUSIC FESTIVAL
DESCRIPTION:Spring Loaded Art & Music Festival\n2:00-3:00pm\nNorfolk V
 A\nThis benefit festival will be held from March 20th thru the 22nd. C
 ome join us at the Five Points Community Farm Market with Amy Ferebee,
  Regina Scott Sanford, Mermaids in the Basement and many more...\n2500
  Church Street\nCall 757-640-0300 for additional information\n\nFor mo
 re information visit https://vbnightlife.com/events/narissa-bond-the-s
 pring
DTSTART:20090322T180000Z
DTEND:20090322T190000Z
CATEGORIES:live, music
LOCATION:Five Points Community Farm Market
WEBSITE:
URL:
CONTACT:
ORGANIZER:Five Points Community Farm Market
ATTACH;FMTTYPE="image/jpeg":http://storage.ning.com/topology/rest/1.0/
 file/get/1664069004?profile=original
ATTENDEE;ROLE=REQ-PARTICIPANT;PARTSTAT=ACCEPTED;RSVP=TRUE;CN="Nicole M
 axino":https://vbnightlife.com/profile/NicoleMaxino
END:VEVENT
END:VCALENDAR
