BEGIN:VCALENDAR
PRODID:NingEventWidget-v1
VERSION:2.0
METHOD:PUBLISH
BEGIN:VEVENT
UID:2508951:Event:278183
DTSTAMP:20260422T134819Z
SUMMARY:ENTER CONTEST TO WIN $1000 AND NAME OUR NEW VIRGINIA BEACH BAS
 EBALL TEAM
DESCRIPTION:**Help** name our Virginia Beach Pro Virginia Beach Profe
 ssional Baseball team!! The grand prize winner will get $1,000 cash a
 nd inaugural season tickets! Enter the contest here:https://www.facebo
 ok.com/BringProBaseballtoVB?sk=app_212077615474453&app_data=121167\n\n
 Council Approves Plan for Professional Baseball and Tournament Facilit
 y\n\nThe plan includes bringing an as yet unnamed professional basebal
 l team that will join the Atlantic League in 2015 as well as the const
 ruction of a 5,000-seat stadium and 17 new ball fields at Princess Ann
 e Commons.\n\nThe Virginia Beach Neptunes might be the name of the cit
 y's new minor league baseball team.\n\nRead More here: http://www.vbg
 ov.com/government/departments/communications-info-tech/citypage/Pages/
 Baseball-Facility.aspx\n\nFor more information visit https://vbnightli
 fe.com/events/name-our-new-virginia-beach-baseball-team
DTSTART:20140228T050000Z
DTEND:20140301T045900Z
CATEGORIES:baseball
LOCATION:everyWHERE
WEBSITE:
URL:
CONTACT:
ORGANIZER;CN="VBnightlife.com":https://vbnightlife.com/profile/admin
ATTACH;FMTTYPE="image/jpeg":http://storage.ning.com/topology/rest/1.0/
 file/get/1664223910?profile=original
ATTENDEE;ROLE=REQ-PARTICIPANT;PARTSTAT=ACCEPTED;RSVP=TRUE;CN="Rolan St
 ears":https://vbnightlife.com/profile/RolanStears
ATTENDEE;ROLE=REQ-PARTICIPANT;PARTSTAT=ACCEPTED;RSVP=TRUE;CN="VBnightl
 ife.com":https://vbnightlife.com/profile/admin
END:VEVENT
END:VCALENDAR
