BEGIN:VCALENDAR
PRODID:NingEventWidget-v1
VERSION:2.0
METHOD:PUBLISH
BEGIN:VEVENT
UID:2508951:Event:47348
DTSTAMP:20260420T110215Z
SUMMARY:MY 2 CENTS @ SOUTH BEACH GRILL
DESCRIPTION:My 2 Cents was founded in the summer of 1998. The first gi
 g was at Cheers in Newport News in front of thousands of crazed colleg
 e students. After that, the band played in some of the best clubs in H
 ampton Roads, including: Hot Tuna, 501 City Grille, The Inlet, etc. Al
 so at several Beach Festivals. Nowadays, the band still plays out at s
 elected gigs.\n\n9:30\n\nFor more information visit https://vbnightlif
 e.com/events/my-2-cents-south-beach-grill
DTSTART:20110917T040000Z
DTEND:20110918T035900Z
CATEGORIES:band
LOCATION:SOUTH BEACH GRILL
WEBSITE:
URL:
CONTACT:
ORGANIZER;CN="VBnightlife.com":https://vbnightlife.com/profile/admin
ATTACH;FMTTYPE="image/jpeg":http://storage.ning.com/topology/rest/1.0/
 file/get/1664120336?profile=original
ATTENDEE;ROLE=REQ-PARTICIPANT;PARTSTAT=ACCEPTED;RSVP=TRUE;CN="Dave Kai
 ktsian":https://vbnightlife.com/profile/DaveKaiktsian
ATTENDEE;ROLE=REQ-PARTICIPANT;PARTSTAT=ACCEPTED;RSVP=TRUE;CN="VBnightl
 ife.com":https://vbnightlife.com/profile/admin
ATTENDEE;ROLE=REQ-PARTICIPANT;PARTSTAT=TENTATIVE;RSVP=TRUE;CN="alex as
 ercion":https://vbnightlife.com/profile/alexasercion
END:VEVENT
END:VCALENDAR
