BEGIN:VCALENDAR
PRODID:NingEventWidget-v1
VERSION:2.0
METHOD:PUBLISH
BEGIN:VEVENT
UID:2508951:Event:31984
DTSTAMP:20260421T121140Z
SUMMARY:Music of Queen / A Rock Symphony
DESCRIPTION:Music of Queen: A Rock Symphony\nBrent Havens, conductor\n
 Brody Dolyniuk, vocals\nwith Virginia Symphony OrchestraSat. May 22, 8
 :00 PM\nChrysler Hall, Norfolk\n$65 Gold Circle, no discount, $50, $35
 From Brent Havens, the creator of the spectacular \"Music of Led Zeppe
 lin,\" comes the newest rock-symphonic celebration\n\nFor more informa
 tion visit https://vbnightlife.com/events/music-of-queen-a-rock
DTSTART:20100323T000000Z
DTEND:20100323T030000Z
CATEGORIES:band
LOCATION:Chrysler Hall, Norfolk
WEBSITE:http://www.vafest.org/2010/folkrockjazz.php?tc=3
URL:http://www.vafest.org/2010/folkrockjazz.php?tc=3
CONTACT:
ORGANIZER;CN="VBnightlife.com":https://vbnightlife.com/profile/admin
ATTACH;FMTTYPE="image/jpeg":http://storage.ning.com/topology/rest/1.0/
 file/get/1664101017?profile=original
ATTENDEE;ROLE=REQ-PARTICIPANT;PARTSTAT=ACCEPTED;RSVP=TRUE;CN="VBnightl
 ife.com":https://vbnightlife.com/profile/admin
END:VEVENT
END:VCALENDAR
