BEGIN:VCALENDAR
PRODID:NingEventWidget-v1
VERSION:2.0
METHOD:PUBLISH
BEGIN:VEVENT
UID:2508951:Event:19590
DTSTAMP:20260421T135614Z
SUMMARY:MOVIE NIGHT @ MT. TRASHMORE PARK
DESCRIPTION:Virginia Beach Parks and Recreation invites you to their l
 ast Movie Night of the summer at Mount Trashmore Park on Friday, Augus
 t 21, to watch \"Hotel for Dogs\" (Rated PG, released 2009, 100 minute
 s). The movie starts at sunset, but bring the kids early for some exci
 ting children's activities that begin at 7:30 pm! Movie snacks and glo
 w products will be available for purchase. Bring a lawn chair or blank
 et, relax, and enjoy this family-friendly film!\n\nHotel for Dogs is t
 he story of two foster kids Andi and Bruce who are forbidden by their 
 new guardians to have a pet. They use quick wit to help find a new hom
 e for their dog, Friday, at an abandoned hotel, which they transform i
 nto a magical dog-paradise. But suspicious neighbors threaten their se
 cret when Friday's friends bark it up, so Andi and Bruce work to avoid
  anyone discovering \"who let the dogs in!\"\n\nMovie Night featuring 
 \"Hotel for Dogs\" is brought to you by Virginia Beach Parks and Recre
 ation in conjunction with Coca-Cola and Valpak.\n\nFree and open to th
 e public with free onsite parking! For more information, please contac
 t the Special Events Office at (757) 385-2990.\n\nMount Trashmore Park
 , 310 Edwin Drive, Virginia Beach, VA\n\nFor more information visit ht
 tps://vbnightlife.com/events/movie-night-mt-trashmore-park
DTSTART:20090821T233000Z
DTEND:20090822T020000Z
CATEGORIES:movie, "/", family
LOCATION:Virginia Beach
WEBSITE:
URL:
CONTACT:
ORGANIZER;CN="VBnightlife.com":https://vbnightlife.com/profile/admin
ATTACH;FMTTYPE="image/jpeg":http://storage.ning.com/topology/rest/1.0/
 file/get/1664082986?profile=original
ATTENDEE;ROLE=REQ-PARTICIPANT;PARTSTAT=ACCEPTED;RSVP=TRUE;CN="VBnightl
 ife.com":https://vbnightlife.com/profile/admin
END:VEVENT
END:VCALENDAR
